BEGIN:VCALENDAR
VERSION:2.0
PRODID:-//Academy of Make Up Arts - AMUA Nashville - ECPv6.15.20//NONSGML v1.0//EN
CALSCALE:GREGORIAN
METHOD:PUBLISH
X-WR-CALNAME:Academy of Make Up Arts - AMUA Nashville
X-ORIGINAL-URL:https://academyofmakeuparts.com
X-WR-CALDESC:Events for Academy of Make Up Arts - AMUA Nashville
REFRESH-INTERVAL;VALUE=DURATION:PT1H
X-Robots-Tag:noindex
X-PUBLISHED-TTL:PT1H
BEGIN:VTIMEZONE
TZID:America/Chicago
BEGIN:DAYLIGHT
TZOFFSETFROM:-0600
TZOFFSETTO:-0500
TZNAME:CDT
DTSTART:20230312T080000
END:DAYLIGHT
BEGIN:STANDARD
TZOFFSETFROM:-0500
TZOFFSETTO:-0600
TZNAME:CST
DTSTART:20231105T070000
END:STANDARD
BEGIN:DAYLIGHT
TZOFFSETFROM:-0600
TZOFFSETTO:-0500
TZNAME:CDT
DTSTART:20240310T080000
END:DAYLIGHT
BEGIN:STANDARD
TZOFFSETFROM:-0500
TZOFFSETTO:-0600
TZNAME:CST
DTSTART:20241103T070000
END:STANDARD
BEGIN:DAYLIGHT
TZOFFSETFROM:-0600
TZOFFSETTO:-0500
TZNAME:CDT
DTSTART:20250309T080000
END:DAYLIGHT
BEGIN:STANDARD
TZOFFSETFROM:-0500
TZOFFSETTO:-0600
TZNAME:CST
DTSTART:20251102T070000
END:STANDARD
END:VTIMEZONE
BEGIN:VTIMEZONE
TZID:UTC
BEGIN:STANDARD
TZOFFSETFROM:+0000
TZOFFSETTO:+0000
TZNAME:UTC
DTSTART:20230101T000000
END:STANDARD
END:VTIMEZONE
BEGIN:VEVENT
DTSTART;TZID=America/Chicago:20241114T170000
DTEND;TZID=America/Chicago:20241117T170000
DTSTAMP:20260421T214116
CREATED:20240830T142537Z
LAST-MODIFIED:20241104T184915Z
UID:839-1731603600-1731862800@academyofmakeuparts.com
SUMMARY:Pop Up Prop Workshop -  Wrench
DESCRIPTION:Learn how to mold\, cast and paint a soft prop wrench. \n  \nThursday\, Nov 14th: 5-8pm \nFriday\, Nov 15th: 5-8pm \nSaturday\, Nov 16th: 9am-5pm \nSunday\, Nov 17th: 9am-5pm
URL:https://academyofmakeuparts.com/event/pop-up-prop-workshop-wrench/
LOCATION:Academy of Makeup & Arts\, 299 Plus Park Blvd Suite 110\, Nashville\, TN\, United States
ORGANIZER;CN="Ben Rittenhouse":MAILTO:ben@theamua.com
END:VEVENT
BEGIN:VEVENT
DTSTART;TZID=America/Chicago:20240610T100000
DTEND;TZID=America/Chicago:20240611T160000
DTSTAMP:20260421T214116
CREATED:20240603T145416Z
LAST-MODIFIED:20240606T134354Z
UID:685-1718013600-1718121600@academyofmakeuparts.com
SUMMARY:Face Painting Intensive
DESCRIPTION:Face Painting Intensive with Whitney Meyers\nThis two-day intensive\, totaling 12 hours\, is perfect for new painters who are eager to dive into the world of face painting. The course includes a small beginner kit and covers all the basics of face painting\, along with 8-10 designs to kickstart your creativity. Additionally\, Whitney will be sharing valuable insights into the business side of face painting\, making it a well-rounded learning experience. \nThis will be an intimate class with a nearly one-on-one experience\, limited to just 2-4 students. This ensures ample opportunity for personalized instruction and guidance directly from Whitney herself. Normally priced at $1\,200 per student\, we’re offering it at a discounted rate of $400 per student. \nIf you’re interested and available to join us for this incredible opportunity\, please don’t hesitate to reach out to me directly. Spaces are very limited\, so be sure to secure your spot soon!
URL:https://academyofmakeuparts.com/event/face-painting-intensive/
LOCATION:Academy of Makeup & Arts\, 299 Plus Park Blvd Suite 110\, Nashville\, TN\, United States
CATEGORIES:Summer Intensives
END:VEVENT
BEGIN:VEVENT
DTSTART;TZID=UTC:20240610T090000
DTEND;TZID=UTC:20240614T170000
DTSTAMP:20260421T214116
CREATED:20240226T033416Z
LAST-MODIFIED:20240305T235805Z
UID:181-1718010000-1718384400@academyofmakeuparts.com
SUMMARY:Mastering Blood and Gore Effects with Ben Rittenhouse
DESCRIPTION:Mastering Blood and Gore Effects with Ben Rittenhouse\nPlease note that this camp contains graphic content and is not suitable for all ages. Students will learn to master realistic horror effects such as zombie bites and slit throats\, ideal for creating chilling scenes in film and television where blood splatters realistically. \nRecommended for Ages 16+ \nStudents will create realistic horror effects like zombie bites and slit-throats. These effects are great for film and television scenes where blood oozes and gushes from victims. \nYou will learn: \n\nBuilding blood rigs\nFoam latex application\nPainting techniques\nBlood bladder creation\nBlood making\nCreating realistic guts\n\nYou should bring:  \n\nChip Brushes\nPaper towels\nAny makeup you may have\nClothes that can get dirty\n\n \nAbout the Instructor\nMeet Ben Rittenhouse\, a celebrated figure in special effects makeup renowned for his contributions to iconic films like The Hills Have Eyes\, Kill Bill Vol. 1 & 2\, and Planet of the Apes\, as well as his Emmy-winning work on The Pacific. As the instructor for our Blood and Gore FX course\, Ben imparts his extensive expertise in crafting visceral effects that leave a lasting impact. With hands-on experience and a knack for pushing creative boundaries\, participants will learn the art of realistic wound creation\, blood application\, and prosthetic materials under Ben’s expert guidance. Whether you’re a seasoned professional or an aspiring makeup artist\, join us to unlock the secrets of blood and gore special effects with Ben leading the way.
URL:https://academyofmakeuparts.com/event/blood-gore-fx-2024/
LOCATION:Academy of Makeup & Arts\, 299 Plus Park Blvd Suite 110\, Nashville\, TN\, United States
CATEGORIES:Summer Intensives
ATTACH;FMTTYPE=image/jpeg:https://academyofmakeuparts.com/wp-content/uploads/2024/02/blood-and-gore-camp.jpeg
ORGANIZER;CN="Ben Rittenhouse":MAILTO:ben@theamua.com
END:VEVENT
BEGIN:VEVENT
DTSTART;TZID=UTC:20240601T090000
DTEND;TZID=UTC:20240602T160000
DTSTAMP:20260421T214116
CREATED:20240301T015541Z
LAST-MODIFIED:20240418T163648Z
UID:397-1717232400-1717344000@academyofmakeuparts.com
SUMMARY:Sock Mask Making Workshop
DESCRIPTION:Sock Mask Making Workshop\nDon’t Miss Out on Your Chance to Unleash Your Creative Monster at AMUA Nashville! \nJoin David Cowger of Unknown Origin FX for an immersive Sock Mask Making Workshop! Discover the secrets behind crafting a full overhead monster mask that’s both intricate and breathable. Whether you’re gearing up for theatrical performances\, haunting experiences\, or simply unleashing your creativity\, this workshop is your gateway to bringing your visions to life. All materials will be provided\, ensuring a seamless and enjoyable learning experience. Don’t miss this opportunity to unleash your inner monster maker! \nJoin us for a limited spots hands-on workshop where you will learn the captivating art of creating your very own sock mask. Get ready to bring your imaginative monster to life as you delve into the world of design\, construction\, and finishing details.\nRecommended Age: 15+
URL:https://academyofmakeuparts.com/event/sock-mask-making-workshop-2024/
LOCATION:Academy of Makeup & Arts\, 299 Plus Park Blvd Suite 110\, Nashville\, TN\, United States
CATEGORIES:Summer Intensives
ATTACH;FMTTYPE=image/jpeg:https://academyofmakeuparts.com/wp-content/uploads/2024/02/David-Sock-Masks.jpeg
ORGANIZER;CN="David Cowger":MAILTO:david.d.cowger86@gmail.com
END:VEVENT
BEGIN:VEVENT
DTSTART;TZID=UTC:20240404T000000
DTEND;TZID=UTC:20240407T000000
DTSTAMP:20260421T214116
CREATED:20240226T033416Z
LAST-MODIFIED:20240401T170636Z
UID:191-1712188800-1712448000@academyofmakeuparts.com
SUMMARY:POP UP Prop Workshop with Ben Rittenhouse
DESCRIPTION:POP UP Prop Workshop with Ben Rittenhouse\nJoin Ben Rittenhouse for a prop workshop April 4th-7th. Learn how to mold\, cast\, and paint a soft prop hammer. \nThursday April 4th 5-8pm \nFriday April 5th 5-8pm \nSaturday April 6th 9am-5pm \nSunday April 7th 9am-5pm
URL:https://academyofmakeuparts.com/event/pop-up-prop-workshop-with-ben-rittenhouse/
LOCATION:Academy of Makeup & Arts\, 299 Plus Park Blvd Suite 110\, Nashville\, TN\, United States
CATEGORIES:Summer Intensives
ORGANIZER;CN="Ben Rittenhouse":MAILTO:ben@theamua.com
END:VEVENT
END:VCALENDAR