BEGIN:VCALENDAR
VERSION:2.0
PRODID:-//Academy of Make Up Arts - AMUA Nashville - ECPv6.15.20//NONSGML v1.0//EN
CALSCALE:GREGORIAN
METHOD:PUBLISH
X-WR-CALNAME:Academy of Make Up Arts - AMUA Nashville
X-ORIGINAL-URL:https://academyofmakeuparts.com
X-WR-CALDESC:Events for Academy of Make Up Arts - AMUA Nashville
REFRESH-INTERVAL;VALUE=DURATION:PT1H
X-Robots-Tag:noindex
X-PUBLISHED-TTL:PT1H
BEGIN:VTIMEZONE
TZID:America/Chicago
BEGIN:DAYLIGHT
TZOFFSETFROM:-0600
TZOFFSETTO:-0500
TZNAME:CDT
DTSTART:20250309T080000
END:DAYLIGHT
BEGIN:STANDARD
TZOFFSETFROM:-0500
TZOFFSETTO:-0600
TZNAME:CST
DTSTART:20251102T070000
END:STANDARD
BEGIN:DAYLIGHT
TZOFFSETFROM:-0600
TZOFFSETTO:-0500
TZNAME:CDT
DTSTART:20260308T080000
END:DAYLIGHT
BEGIN:STANDARD
TZOFFSETFROM:-0500
TZOFFSETTO:-0600
TZNAME:CST
DTSTART:20261101T070000
END:STANDARD
BEGIN:DAYLIGHT
TZOFFSETFROM:-0600
TZOFFSETTO:-0500
TZNAME:CDT
DTSTART:20270314T080000
END:DAYLIGHT
BEGIN:STANDARD
TZOFFSETFROM:-0500
TZOFFSETTO:-0600
TZNAME:CST
DTSTART:20271107T070000
END:STANDARD
END:VTIMEZONE
BEGIN:VTIMEZONE
TZID:Africa/Abidjan
BEGIN:STANDARD
TZOFFSETFROM:+0000
TZOFFSETTO:+0000
TZNAME:GMT
DTSTART:20250101T000000
END:STANDARD
END:VTIMEZONE
BEGIN:VEVENT
DTSTART;TZID=America/Chicago:20260223T090000
DTEND;TZID=America/Chicago:20260224T170000
DTSTAMP:20260421T181322
CREATED:20251211T202119Z
LAST-MODIFIED:20260107T145054Z
UID:8104-1771837200-1771952400@academyofmakeuparts.com
SUMMARY:Master the Art of 3D Transfers: An Intensive Workshop with Emmy Winner Ben Rittenhouse
DESCRIPTION:Join Emmy Award-winning instructor Ben Rittenhouse (The Pacific) for a hands-on\, two-day Masterclass. This is a rare opportunity for serious artists to receive personalized training and elevate their skills in the most advanced special effects technique. \nWith a class size strictly limited to 12 dedicated participants\, this format guarantees direct\, personalized mentorship and feedback on your work from Ben Rittenhouse\, accelerating your mastery of the craft. \nWhat You Will Master\nThis course is designed to give you a comprehensive understanding of the entire 3D transfer pipeline\, from concept to application. You will receive hands-on training in every crucial step: \n\n\nSculpting your desired effect \n\n\nMolding for transfer production \n\n\nCasting the final pieces \n\n\nApplying the 3D transfers for a seamless\, realistic finish \n\n\nLearn how to create realistic wounds\, cuts\, and abrasions—the versatile\, award-winning effects relied upon by top professionals in film\, television\, and theatre. With a class size strictly limited to 12 participants\, you will receive unparalleled\, one-on-one instruction and feedback directly from Ben Rittenhouse. \nYour Career Investment\nSpaces are exceptionally limited to ensure quality instruction. Reserve your seat to train directly with Ben Rittenhouse. \n\n\n\n\n\n\n\nTier\nPrice\nAvailability\nBenefit\n\n\n\n\n⚡ Early Bird\n$845\nFirst 4 Enrollments Only\nSecures your place with maximum savings.\n\n\n✅ Standard Enrollment\n$945\nNext 6 Enrollments\nProfessional rate for two days of direct instruction.\n\n\n⚠️ Last Chance\n$995\nFinal 2 Seats Available\nLast opportunity to learn this definitive technique.\n\n\n\nAMUA Student\, Alumni\, or Industry Pro? Enter PRO40 at checkout for 40% off your registration. Verification may be requested at check-in.
URL:https://academyofmakeuparts.com/event/master-the-art-of-3d-transfers-an-intensive-workshop-with-emmy-winner-ben-rittenhouse/
LOCATION:Academy of Makeup Arts\, 299 Plus Park Blvd\, Nashville\, TN 37217\, Nashville\, TN\, 37217\, US
CATEGORIES:Continuing Education,Masterclass
END:VEVENT
BEGIN:VEVENT
DTSTART;TZID=Africa/Abidjan:20260321T103000
DTEND;TZID=Africa/Abidjan:20260321T130000
DTSTAMP:20260421T181322
CREATED:20250828T010809Z
LAST-MODIFIED:20250828T013001Z
UID:8023-1774089000-1774098000@academyofmakeuparts.com
SUMMARY:AMUA Spring Open House
DESCRIPTION:Join us for AMUA Spring Open House! \n\n\nReady to explore the world of makeup artistry? Join us for the Academy of Makeup & Arts’ Spring Open House\, where the magic of makeup comes to life! Whether you’re interested in makeup\, special effects\, wig making\, costume design\, or just curious about what AMUA has to offer\, this is the perfect chance to see what we’re all about. \nYou’re invited to join us: \nDate: March 21\, 2026\nTime: 10:30 am – 1:00 pm\nLocation: AMUA\, 299 Plus Park Blvd\, Nashville\, TN 37217 \nWhat to expect: \n  \n\nLive Demo: Watch our expert instructors showcase the latest techniques and trends—free education at its best!\nStudent Connections: Meet our talented students and see their creative work firsthand.\nNetworking: Connect with like-minded creatives and discover career opportunities in the entertainment industries.\n\nWe can’t wait to welcome you and share the amazing opportunities awaiting you at the AMUA. Don’t miss out on this exciting event!
URL:https://academyofmakeuparts.com/event/amua-open-house-spring-2026/
LOCATION:Academy of Makeup Arts\, 299 Plus Park Blvd\, Nashville\, TN 37217\, Nashville\, TN\, 37217\, US
CATEGORIES:Prospective Students
ATTACH;FMTTYPE=image/png:https://academyofmakeuparts.com/wp-content/uploads/2025/08/8023_image.png
END:VEVENT
BEGIN:VEVENT
DTSTART;TZID=America/Chicago:20260430T170000
DTEND;TZID=America/Chicago:20260503T170000
DTSTAMP:20260421T181322
CREATED:20260226T154749Z
LAST-MODIFIED:20260317T162211Z
UID:8188-1777568400-1777827600@academyofmakeuparts.com
SUMMARY:Soft Props Workshop
DESCRIPTION:Join Emmy-award winning SFX artist\, Ben Rittenhouse\, to learn how to mold\, cast\, seam\, and paint your very own “soft prop” to film and television standards. Workshop schedule: \nThursday\, April 30\, 5-8pm \nFriday\, May 1\, 5-8pm \nSaturday\, May 2\, 9am-5pm \nSunday\, May 2\, 9am-5pm
URL:https://academyofmakeuparts.com/event/soft-props-workshop/
LOCATION:Academy of Makeup & Arts\, 299 Plus Park Blvd Suite 110\, Nashville\, TN\, United States
CATEGORIES:Continuing Education
ATTACH;FMTTYPE=image/png:https://academyofmakeuparts.com/wp-content/uploads/2026/02/Soft-Props-with-date-e1772120844290.png
END:VEVENT
BEGIN:VEVENT
DTSTART;TZID=America/Chicago:20260601T090000
DTEND;TZID=America/Chicago:20260603T150000
DTSTAMP:20260421T181322
CREATED:20260209T164745Z
LAST-MODIFIED:20260209T165957Z
UID:8176-1780304400-1780498800@academyofmakeuparts.com
SUMMARY:Beauty & Glam Makeup Camp
DESCRIPTION:For students entering 9th-12th grade. Limited to 8 participants. \nThis hands-on makeup camp is designed to build confidence\, creativity\, and healthy beauty habits. Students will learn: \n\nSkin care basics for healthy\, glowing skin\nNatural everyday makeup techniques\nHow to enhance features without heavy makeup\nEvent-ready glam looks that are age-appropriate\nBrow grooming\, complexion balancing\, and color correction\nLash application basics and eye definition\nProper makeup hygiene and tool care\n\nAMUA will provide many of your supplies\, however students will be required to bring in the following personal makeup products: \n\nBB cream\nConcealer\nFoundation (optional)\nGreen color-correcting concealer\nContour palette\nCheek balm or blush\nTinted lip balm\nLipstick\nNeutral eyeshadow palette\nBlack or brown mascara\nEyeliner
URL:https://academyofmakeuparts.com/event/beauty-glam-makeup-camp/
LOCATION:Academy of Makeup & Arts\, 299 Plus Park Blvd Suite 110\, Nashville\, TN\, United States
CATEGORIES:Summer Camp
ATTACH;FMTTYPE=image/jpeg:https://academyofmakeuparts.com/wp-content/uploads/2026/02/DSC0514-scaled.jpg
END:VEVENT
BEGIN:VEVENT
DTSTART;TZID=America/Chicago:20260601T090000
DTEND;TZID=America/Chicago:20260704T170000
DTSTAMP:20260421T181322
CREATED:20260203T182311Z
LAST-MODIFIED:20260209T180319Z
UID:8144-1780304400-1783184400@academyofmakeuparts.com
SUMMARY:Animatronics Workshop Intensive with Michael Meyer
DESCRIPTION:Join us for a 5-week animatronic intensive to build a half-face animatronic with fully independent movement of eyes\, eyebrows and nostrils. Highly motivated students may advance to a full-face including jaw and lip movement. This course is limited to 6 participants. \nStudents will: \n\nCreate a 3-D character design in Blender\nWork with parametric CAD to design and then fabricate 3-D printed molds\nExecute silicone fabrication techniques for animatronic skins\nImplement servos and control systems for facial movement\nDesign and build mechanical linkages and mechanisms\n\nTuition $3\,200  +  Materials and Animatronics Kit Fee $1\,800 = course total $5\,000 \nOptional: purchase of Personal 3-D printer = additional $1\,200
URL:https://academyofmakeuparts.com/event/animatronics-workshop-intensive-with-michael-meyer/
LOCATION:Academy of Makeup & Arts\, 299 Plus Park Blvd Suite 110\, Nashville\, TN\, United States
CATEGORIES:Continuing Education,Masterclass,Summer Intensives
ATTACH;FMTTYPE=image/jpeg:https://academyofmakeuparts.com/wp-content/uploads/2026/02/IMG_4960-scaled.jpeg
END:VEVENT
BEGIN:VEVENT
DTSTART;TZID=America/Chicago:20260608T090000
DTEND;TZID=America/Chicago:20260612T153000
DTSTAMP:20260421T181322
CREATED:20260209T173808Z
LAST-MODIFIED:20260209T173808Z
UID:8181-1780909200-1781278200@academyofmakeuparts.com
SUMMARY:Movie Magic Makeup Camp
DESCRIPTION:For students entering 8th-12th grades. Limited to 8 participants. \nStep behind the scenes of the film and television industry in our Movie Magic Makeup Camp where students will dive into the world of special effects makeup (SFX). Through hands-on training\, campers will learn how professional makeup artists create realistic injuries and character transformations seen on screen. \nStudents will learn: \n\nHow to create realistic bruises and injuries\nFrostbite and weathered skin effects\nAging techniques for “old age” makeup\nColor theory and texture for believable effects\nProper use of makeup tools and materials\nCreative problem-solving and character design\n\nBy the end of camp\, students will put their imagination and newly learned skills to work by designing and creating their very own zombie character\, from concept to final look! \nALL MATERIALS AND TOOLS ARE PROVIDED FOR THIS CAMP. Students will receive their own makeup kit and tools as part of the price of the experience. \n 
URL:https://academyofmakeuparts.com/event/movie-magic-makeup-camp-2/
LOCATION:Academy of Makeup & Arts\, 299 Plus Park Blvd Suite 110\, Nashville\, TN\, United States
CATEGORIES:Summer Camp
ATTACH;FMTTYPE=image/jpeg:https://academyofmakeuparts.com/wp-content/uploads/2026/02/IMG_5015-scaled.jpg
END:VEVENT
BEGIN:VEVENT
DTSTART;TZID=America/Chicago:20260608T090000
DTEND;TZID=America/Chicago:20260612T160000
DTSTAMP:20260421T181322
CREATED:20260226T153444Z
LAST-MODIFIED:20260226T153444Z
UID:8185-1780909200-1781280000@academyofmakeuparts.com
SUMMARY:Blood and Gore Workshop
DESCRIPTION:Recommended for ages 16+ \nEver wonder how all those gory blood effects are done for your favorite horror movies? Join Emmy-award winning SFX artist Ben Rittenhouse to learn all the tricks of the trade with our Blood and Gore Workshop. Participants will construct blood rigs for slit throat effects and strap on prosthetic appliances.  Each student will have the opportunity to operate these rigs firsthand. It will be a bloody good time!
URL:https://academyofmakeuparts.com/event/blood-and-gore-workshop/
LOCATION:Academy of Makeup & Arts\, 299 Plus Park Blvd Suite 110\, Nashville\, TN\, United States
CATEGORIES:Continuing Education,Masterclass,Summer Camp
ATTACH;FMTTYPE=image/png:https://academyofmakeuparts.com/wp-content/uploads/2026/02/Blood-and-Gore-Bria-e1772120049409.png
END:VEVENT
END:VCALENDAR