BEGIN:VCALENDAR
VERSION:2.0
PRODID:-//Academy of Make Up Arts - AMUA Nashville - ECPv6.15.20//NONSGML v1.0//EN
CALSCALE:GREGORIAN
METHOD:PUBLISH
X-WR-CALNAME:Academy of Make Up Arts - AMUA Nashville
X-ORIGINAL-URL:https://academyofmakeuparts.com
X-WR-CALDESC:Events for Academy of Make Up Arts - AMUA Nashville
REFRESH-INTERVAL;VALUE=DURATION:PT1H
X-Robots-Tag:noindex
X-PUBLISHED-TTL:PT1H
BEGIN:VTIMEZONE
TZID:Africa/Abidjan
BEGIN:STANDARD
TZOFFSETFROM:+0000
TZOFFSETTO:+0000
TZNAME:GMT
DTSTART:20240101T000000
END:STANDARD
END:VTIMEZONE
BEGIN:VTIMEZONE
TZID:America/Chicago
BEGIN:DAYLIGHT
TZOFFSETFROM:-0600
TZOFFSETTO:-0500
TZNAME:CDT
DTSTART:20240310T080000
END:DAYLIGHT
BEGIN:STANDARD
TZOFFSETFROM:-0500
TZOFFSETTO:-0600
TZNAME:CST
DTSTART:20241103T070000
END:STANDARD
BEGIN:DAYLIGHT
TZOFFSETFROM:-0600
TZOFFSETTO:-0500
TZNAME:CDT
DTSTART:20250309T080000
END:DAYLIGHT
BEGIN:STANDARD
TZOFFSETFROM:-0500
TZOFFSETTO:-0600
TZNAME:CST
DTSTART:20251102T070000
END:STANDARD
BEGIN:DAYLIGHT
TZOFFSETFROM:-0600
TZOFFSETTO:-0500
TZNAME:CDT
DTSTART:20260308T080000
END:DAYLIGHT
BEGIN:STANDARD
TZOFFSETFROM:-0500
TZOFFSETTO:-0600
TZNAME:CST
DTSTART:20261101T070000
END:STANDARD
END:VTIMEZONE
BEGIN:VEVENT
DTSTART;TZID=Africa/Abidjan:20251002T170000
DTEND;TZID=Africa/Abidjan:20251005T200000
DTSTAMP:20260421T111606
CREATED:20250828T010508Z
LAST-MODIFIED:20250828T011640Z
UID:8007-1759424400-1759694400@academyofmakeuparts.com
SUMMARY:Blood & Gore FX Workshop with Ben Rittenhouse at AMUA
DESCRIPTION:Students will learn realistic horror effects such as zombie bites and slit throats\, ideal for creating chilling scenes in film and tv.\n\n\nBlood and Gore FX Workshop with Ben Rittenhouse at AMUA\nPlease note that this camp contains graphic content and is not suitable for all ages. Students will learn to master realistic horror effects such as zombie bites and slit throats\, ideal for creating chilling scenes in film and television where blood splatters realistically. \nSchedule \n\nOct 2-3 from 5-8pm\nOct 4-5 from 9am-4pm\n\nRecommended for Ages 16+ \nStudents will create realistic horror effects like zombie bites and slit-throats. These effects are great for film and television scenes where blood oozes and gushes from victims. \nYou will learn: \n\nBuilding blood rigs\nEncapsulated silicone application\nPainting techniques\nCreating a reusable blood gag\n\nYou should bring: \n\nChip Brushes\nPaper towels\nAny makeup you may have\nClothes that can get dirty
URL:https://academyofmakeuparts.com/event/blood-gore-fx-workshop-with-ben-rittenhouse-at-amua/
LOCATION:Academy of Makeup Arts\, 299 Plus Park Blvd\, Nashville\, TN 37217\, Nashville\, TN\, 37217\, US
CATEGORIES:Continuing Education,Summer Camp
ATTACH;FMTTYPE=image/png:https://academyofmakeuparts.com/wp-content/uploads/2025/08/8007_image.png
END:VEVENT
BEGIN:VEVENT
DTSTART;TZID=America/Chicago:20250714T090000
DTEND;TZID=America/Chicago:20250717T150000
DTSTAMP:20260421T111606
CREATED:20250207T215522Z
LAST-MODIFIED:20250207T215522Z
UID:1172-1752483600-1752764400@academyofmakeuparts.com
SUMMARY:Movie Magic Makeup Camp
DESCRIPTION:Step into the world of movie magic and special effects makeup in this five-day immersive camp! Whether you’re passionate about beauty makeup\, face painting\, or creating realistic wounds and zombies\, this hands-on experience will help you build skills\, boost creativity\, and even explore a future career in makeup artistry. \n? What You’ll Learn:\n✨ Beauty & Glam – Master natural and special event makeup techniques.\n? Face Painting – Get creative with bold colors\, designs\, and festival looks.\n? Special Effects Makeup – Learn to create gory wounds\, bruises\, and zombie transformations just like in the movies! \n? Bonus: Thinking of a career in makeup? This camp gives you a head start on professional techniques used in the industry. \n? What to Bring: Pack a lunch! A microwave and fridge are available. \n? Limited spots available—register now! \n? Love horror and gore? Check out our Blood & Gore FX Camp (Ages 16+) for an even spookier experience!
URL:https://academyofmakeuparts.com/event/movie-magic-makeup-camp/
LOCATION:Academy of Makeup & Arts\, 299 Plus Park Blvd Suite 110\, Nashville\, TN\, United States
CATEGORIES:Summer Camp
END:VEVENT
END:VCALENDAR