BEGIN:VCALENDAR
VERSION:2.0
PRODID:-//Academy of Make Up Arts - AMUA Nashville - ECPv6.15.20//NONSGML v1.0//EN
CALSCALE:GREGORIAN
METHOD:PUBLISH
X-ORIGINAL-URL:https://academyofmakeuparts.com
X-WR-CALDESC:Events for Academy of Make Up Arts - AMUA Nashville
REFRESH-INTERVAL;VALUE=DURATION:PT1H
X-Robots-Tag:noindex
X-PUBLISHED-TTL:PT1H
BEGIN:VTIMEZONE
TZID:Africa/Abidjan
BEGIN:STANDARD
TZOFFSETFROM:+0000
TZOFFSETTO:+0000
TZNAME:GMT
DTSTART:20240101T000000
END:STANDARD
END:VTIMEZONE
BEGIN:VTIMEZONE
TZID:America/Chicago
BEGIN:DAYLIGHT
TZOFFSETFROM:-0600
TZOFFSETTO:-0500
TZNAME:CDT
DTSTART:20230312T080000
END:DAYLIGHT
BEGIN:STANDARD
TZOFFSETFROM:-0500
TZOFFSETTO:-0600
TZNAME:CST
DTSTART:20231105T070000
END:STANDARD
BEGIN:DAYLIGHT
TZOFFSETFROM:-0600
TZOFFSETTO:-0500
TZNAME:CDT
DTSTART:20240310T080000
END:DAYLIGHT
BEGIN:STANDARD
TZOFFSETFROM:-0500
TZOFFSETTO:-0600
TZNAME:CST
DTSTART:20241103T070000
END:STANDARD
BEGIN:DAYLIGHT
TZOFFSETFROM:-0600
TZOFFSETTO:-0500
TZNAME:CDT
DTSTART:20250309T080000
END:DAYLIGHT
BEGIN:STANDARD
TZOFFSETFROM:-0500
TZOFFSETTO:-0600
TZNAME:CST
DTSTART:20251102T070000
END:STANDARD
BEGIN:DAYLIGHT
TZOFFSETFROM:-0600
TZOFFSETTO:-0500
TZNAME:CDT
DTSTART:20260308T080000
END:DAYLIGHT
BEGIN:STANDARD
TZOFFSETFROM:-0500
TZOFFSETTO:-0600
TZNAME:CST
DTSTART:20261101T070000
END:STANDARD
END:VTIMEZONE
BEGIN:VEVENT
DTSTART;TZID=Africa/Abidjan:20260321T103000
DTEND;TZID=Africa/Abidjan:20260321T130000
DTSTAMP:20260421T095754
CREATED:20250828T010809Z
LAST-MODIFIED:20250828T013001Z
UID:8023-1774089000-1774098000@academyofmakeuparts.com
SUMMARY:AMUA Spring Open House
DESCRIPTION:Join us for AMUA Spring Open House! \n\n\nReady to explore the world of makeup artistry? Join us for the Academy of Makeup & Arts’ Spring Open House\, where the magic of makeup comes to life! Whether you’re interested in makeup\, special effects\, wig making\, costume design\, or just curious about what AMUA has to offer\, this is the perfect chance to see what we’re all about. \nYou’re invited to join us: \nDate: March 21\, 2026\nTime: 10:30 am – 1:00 pm\nLocation: AMUA\, 299 Plus Park Blvd\, Nashville\, TN 37217 \nWhat to expect: \n  \n\nLive Demo: Watch our expert instructors showcase the latest techniques and trends—free education at its best!\nStudent Connections: Meet our talented students and see their creative work firsthand.\nNetworking: Connect with like-minded creatives and discover career opportunities in the entertainment industries.\n\nWe can’t wait to welcome you and share the amazing opportunities awaiting you at the AMUA. Don’t miss out on this exciting event!
URL:https://academyofmakeuparts.com/event/amua-open-house-spring-2026/
LOCATION:Academy of Makeup Arts\, 299 Plus Park Blvd\, Nashville\, TN 37217\, Nashville\, TN\, 37217\, US
CATEGORIES:Prospective Students
ATTACH;FMTTYPE=image/png:https://academyofmakeuparts.com/wp-content/uploads/2025/08/8023_image.png
END:VEVENT
BEGIN:VEVENT
DTSTART;TZID=Africa/Abidjan:20260216T103000
DTEND;TZID=Africa/Abidjan:20260216T120000
DTSTAMP:20260421T095754
CREATED:20250828T010723Z
LAST-MODIFIED:20250828T013400Z
UID:8020-1771237800-1771243200@academyofmakeuparts.com
SUMMARY:AMUA Spring Preview Day
DESCRIPTION:Join us for AMUA Spring Preview Day!\n\n\nJoin us for an exciting behind the scenes look at the Academy of Makeup & Arts! Come explore what makes our campus truly unique by meeting our team\, touring our spaces and taking an up-close look at the artistry and innovation that define AMUA. \n  \nEvent Details: \n\nDate: Monday\, February 16\, 2026 from 10:30 a.m. – 12:00 p.m.\nLocation: Academy of Makeup & Arts\, 299 Plus Park Blvd\, Suite 100\, Nashville\, TN 37217\n\n  \nWhat to Expect: \n\nObserve students in the classroom: Watch our talented students in action as they bring their projects to life.\nJoin in conversations with Instructors & Student Ambassadors: Gain valuable insights into our programs\, career opportunities\, and student life.\nInside Look at AMUA Student Life: Enjoy an informal setting where you can ask questions and get a feel for life at AMUA.
URL:https://academyofmakeuparts.com/event/amua-spring-preview-day/
LOCATION:Academy of Makeup Arts\, 299 Plus Park Blvd\, Nashville\, TN 37217\, Nashville\, TN\, 37217\, US
CATEGORIES:Prospective Students
ATTACH;FMTTYPE=image/png:https://academyofmakeuparts.com/wp-content/uploads/2025/08/8020_image.png
END:VEVENT
BEGIN:VEVENT
DTSTART;TZID=Africa/Abidjan:20251111T103000
DTEND;TZID=Africa/Abidjan:20251111T120000
DTSTAMP:20260421T095754
CREATED:20250828T010635Z
LAST-MODIFIED:20250828T013704Z
UID:8017-1762857000-1762862400@academyofmakeuparts.com
SUMMARY:AMUA Fall Preview Day
DESCRIPTION:Join us for AMUA Fall Preview Day 2025!\n\n\nJoin us for an exciting behind-the-scenes look at the Academy of Makeup & Arts! This event is a great way to see firsthand what makes our creative campus so unique. \nEvent Details: \n\nDate: Tuesday\, November 11\, 2025 from 10:30 a.m. – 12:00 p.m.\nLocation: Academy of Makeup & Arts\, 299 Plus Park Blvd\, Suite 100\, Nashville\, TN 37217\n\nWhat to Expect: \n\nObserve students in the classroom: Watch our talented students in action as they bring their projects to life.\nJoin in conversations with Instructors & Student Ambassadors: Gain valuable insights into our programs\, career opportunities\, and student life.\nInside Look at AMUA Student Life: Enjoy an informal setting where you can ask questions and get a feel for life at AMUA.\n\n 
URL:https://academyofmakeuparts.com/event/amua-fall-preview-day/
LOCATION:Academy of Makeup Arts\, 299 Plus Park Blvd\, Nashville\, TN 37217\, Nashville\, TN\, 37217\, US
CATEGORIES:Prospective Students
ATTACH;FMTTYPE=image/png:https://academyofmakeuparts.com/wp-content/uploads/2025/08/8017_image.png
END:VEVENT
BEGIN:VEVENT
DTSTART;TZID=Africa/Abidjan:20251018T103000
DTEND;TZID=Africa/Abidjan:20251018T130000
DTSTAMP:20260421T095754
CREATED:20250828T010557Z
LAST-MODIFIED:20250828T014248Z
UID:8012-1760783400-1760792400@academyofmakeuparts.com
SUMMARY:AMUA Fall Open House
DESCRIPTION:Experience the magic of makeup at AMUA Fall Open House 2025!\n\n\nPlease join us for our next Open House on October 18\, 2025! \nReady to explore the world of makeup artistry and see the latest trends? Join us for AMUA’s Open House\, where the magic of makeup comes to life! \nHere’s what you can expect: \n\nLive Demo: Watch our expert instructors showcase the latest techniques and trends—free education at its best!\nStudent Connections: Meet our artistic students and experience the exceptional talent emerging from AMUA’s makeup artistry programs\nNetworking: Connect with like-minded creatives and explore potential collaborations\n\nWhether you’re interested in makeup\, special effects\, wig making\, costume design\, or just curious about what AMUA offers\, this is the perfect chance to see what we’re all about. \nWe can’t wait to welcome you and share the amazing opportunities waiting for you at AMUA!
URL:https://academyofmakeuparts.com/event/amua-fall-open-house/
LOCATION:299 Plus Park Blvd\, 299 Plus Park Boulevard\, Nashville\, TN 37217\, Nashville\, TN\, 37217\, US
CATEGORIES:Prospective Students
ATTACH;FMTTYPE=image/jpeg:https://academyofmakeuparts.com/wp-content/uploads/2025/08/8012_image.jpg
END:VEVENT
BEGIN:VEVENT
DTSTART;TZID=America/Chicago:20250320T103000
DTEND;TZID=America/Chicago:20250320T120000
DTSTAMP:20260421T095754
CREATED:20250116T200945Z
LAST-MODIFIED:20250228T060747Z
UID:1070-1742466600-1742472000@academyofmakeuparts.com
SUMMARY:AMUA Preview Day
DESCRIPTION:Join Us for AMUA Preview Day!\namua students showing off shorts they made in costume course\nIntro to Costume students show off the shorts they made in class!\nDiscover the Academy of Makeup & Arts and get an exclusive behind-the-scenes look at our creative environment! Whether you’re a prospective student\, a family member\, or an educator\, this event is the perfect opportunity to experience what makes AMUA special.\nEvent Details: \nDate: Thursday March 20\, 2025\nTime: 10:30 a.m. – 12:00 p.m.\nLocation: Academy of Makeup & Arts\, 299 Plus Park Blvd\, Suite 100\, Nashville\, TN 37217\nWhat You’ll Experience: \nObserve students in the classroom: Watch our talented students in action!\nJoin in Conversations with Instructors & Student Ambassadors: Gain valuable insights into our programs\, career opportunities\, and student life.\nInside Look at AMUA Student Life: Enjoy an informal setting where you can ask questions and get a feel for life at AMUA.\nEducators: Bringing a group? Please shoot us an email so we can ensure a personalized experience for your students. \nWe Can’t Wait to Welcome You! \nLimited Space is Available – Please Register Today!
URL:https://academyofmakeuparts.com/event/amua-preview-day-march-20/
LOCATION:Academy of Makeup & Arts\, 299 Plus Park Blvd Suite 110\, Nashville\, TN\, United States
CATEGORIES:Prospective Students
ATTACH;FMTTYPE=image/heic:https://academyofmakeuparts.com/wp-content/uploads/2025/01/costume-course-shorts-project.heic
ORGANIZER;CN="Michele Brown":MAILTO:michelebrown@theamua.com
END:VEVENT
BEGIN:VEVENT
DTSTART;TZID=America/Chicago:20241221T130000
DTEND;TZID=America/Chicago:20241221T143000
DTSTAMP:20260421T095754
CREATED:20241203T182623Z
LAST-MODIFIED:20241210T160504Z
UID:930-1734786000-1734791400@academyofmakeuparts.com
SUMMARY:Holiday Open House Like No Other at Academy of Makeup & Arts
DESCRIPTION:Celebrate the Season at AMUA’s Holiday Open House Like No Other\nSchool’s out for winter\, and the Academy of Makeup & Arts invites you to kick off the season at our Holiday Open House on Saturday\, December 21\, from 1:00–2:30 PM where our talented team creates a fantastically hideous holiday Elf! \nStep behind the scenes of Hollywood magic with a hands-on demonstration by our renowned instructors\, celebrated for their work on major films. Watch as they transform a live actor and reveal the artistry behind your favorite holiday film characters. \nEnjoy light refreshments\, connect with friends\, and celebrate the holiday spirit in a creative\, unconventional way with AMUA. Don’t miss this exciting opportunity to explore the world of professional makeup artistry and special effects. \nWe can’t wait to welcome you!
URL:https://academyofmakeuparts.com/event/holiday-open-house-at-academy-of-make-up-arts/
LOCATION:Academy of Makeup & Arts\, 299 Plus Park Blvd Suite 110\, Nashville\, TN\, United States
CATEGORIES:Prospective Students
ATTACH;FMTTYPE=image/png:https://academyofmakeuparts.com/wp-content/uploads/2024/12/AMUA-Holiday-Open-House-2024-sq.png
ORGANIZER;CN="Michele Brown":MAILTO:michelebrown@theamua.com
END:VEVENT
BEGIN:VEVENT
DTSTART;TZID=America/Chicago:20241205T103000
DTEND;TZID=America/Chicago:20241205T120000
DTSTAMP:20260421T095754
CREATED:20241118T202807Z
LAST-MODIFIED:20250116T130334Z
UID:920-1733394600-1733400000@academyofmakeuparts.com
SUMMARY:AMUA Preview Day – Go Behind the Scenes at the Academy of Makeup & Arts
DESCRIPTION:Join Us for AMUA Preview Day – December 5th!\nDiscover the Academy of Makeup & Arts and get an exclusive behind-the-scenes look at our creative environment! Whether you’re a prospective student\, a family member\, or an educator\, this event is the perfect opportunity to experience what makes AMUA special. \nWhat You’ll Experience: \n\nLive Student Demonstrations: Watch our talented students in action as they bring their projects to life.\nConversations with Instructors & Student Ambassadors: Gain valuable insights into our programs\, career opportunities\, and student life.\nInside Look at AMUA Student Life: Enjoy an informal setting where you can ask questions and get a feel for life at AMUA.\n\nEducators: Bringing a group? Please let us know by replying to this email so we can ensure a personalized experience for your students. \nWe Can’t Wait to Welcome You!
URL:https://academyofmakeuparts.com/event/amua-preview-day-go-behind-the-scenes-at-the-academy-of-make-up-arts/
LOCATION:Academy of Makeup & Arts\, 299 Plus Park Blvd Suite 110\, Nashville\, TN\, United States
CATEGORIES:Prospective Students
ATTACH;FMTTYPE=image/png:https://academyofmakeuparts.com/wp-content/uploads/2024/11/1.png
ORGANIZER;CN="Michele Brown":MAILTO:michelebrown@theamua.com
END:VEVENT
END:VCALENDAR