BEGIN:VCALENDAR
VERSION:2.0
PRODID:-//Academy of Make Up Arts - AMUA Nashville - ECPv6.15.20//NONSGML v1.0//EN
CALSCALE:GREGORIAN
METHOD:PUBLISH
X-WR-CALNAME:Academy of Make Up Arts - AMUA Nashville
X-ORIGINAL-URL:https://academyofmakeuparts.com
X-WR-CALDESC:Events for Academy of Make Up Arts - AMUA Nashville
REFRESH-INTERVAL;VALUE=DURATION:PT1H
X-Robots-Tag:noindex
X-PUBLISHED-TTL:PT1H
BEGIN:VTIMEZONE
TZID:UTC
BEGIN:STANDARD
TZOFFSETFROM:+0000
TZOFFSETTO:+0000
TZNAME:UTC
DTSTART:20230101T000000
END:STANDARD
END:VTIMEZONE
BEGIN:VEVENT
DTSTART;TZID=UTC:20240404T000000
DTEND;TZID=UTC:20240407T000000
DTSTAMP:20260421T122713
CREATED:20240226T033416Z
LAST-MODIFIED:20240401T170636Z
UID:191-1712188800-1712448000@academyofmakeuparts.com
SUMMARY:POP UP Prop Workshop with Ben Rittenhouse
DESCRIPTION:POP UP Prop Workshop with Ben Rittenhouse\nJoin Ben Rittenhouse for a prop workshop April 4th-7th. Learn how to mold\, cast\, and paint a soft prop hammer. \nThursday April 4th 5-8pm \nFriday April 5th 5-8pm \nSaturday April 6th 9am-5pm \nSunday April 7th 9am-5pm
URL:https://academyofmakeuparts.com/event/pop-up-prop-workshop-with-ben-rittenhouse/
LOCATION:Academy of Makeup & Arts\, 299 Plus Park Blvd Suite 110\, Nashville\, TN\, United States
CATEGORIES:Summer Intensives
ORGANIZER;CN="Ben Rittenhouse":MAILTO:ben@theamua.com
END:VEVENT
END:VCALENDAR