BEGIN:VCALENDAR
VERSION:2.0
PRODID:-//Academy of Make Up Arts - AMUA Nashville - ECPv6.15.20//NONSGML v1.0//EN
CALSCALE:GREGORIAN
METHOD:PUBLISH
X-WR-CALNAME:Academy of Make Up Arts - AMUA Nashville
X-ORIGINAL-URL:https://academyofmakeuparts.com
X-WR-CALDESC:Events for Academy of Make Up Arts - AMUA Nashville
REFRESH-INTERVAL;VALUE=DURATION:PT1H
X-Robots-Tag:noindex
X-PUBLISHED-TTL:PT1H
BEGIN:VTIMEZONE
TZID:America/Chicago
BEGIN:DAYLIGHT
TZOFFSETFROM:-0600
TZOFFSETTO:-0500
TZNAME:CDT
DTSTART:20230312T080000
END:DAYLIGHT
BEGIN:STANDARD
TZOFFSETFROM:-0500
TZOFFSETTO:-0600
TZNAME:CST
DTSTART:20231105T070000
END:STANDARD
BEGIN:DAYLIGHT
TZOFFSETFROM:-0600
TZOFFSETTO:-0500
TZNAME:CDT
DTSTART:20240310T080000
END:DAYLIGHT
BEGIN:STANDARD
TZOFFSETFROM:-0500
TZOFFSETTO:-0600
TZNAME:CST
DTSTART:20241103T070000
END:STANDARD
BEGIN:DAYLIGHT
TZOFFSETFROM:-0600
TZOFFSETTO:-0500
TZNAME:CDT
DTSTART:20250309T080000
END:DAYLIGHT
BEGIN:STANDARD
TZOFFSETFROM:-0500
TZOFFSETTO:-0600
TZNAME:CST
DTSTART:20251102T070000
END:STANDARD
END:VTIMEZONE
BEGIN:VEVENT
DTSTART;TZID=America/Chicago:20241221T130000
DTEND;TZID=America/Chicago:20241221T143000
DTSTAMP:20260421T114849
CREATED:20241203T182623Z
LAST-MODIFIED:20241210T160504Z
UID:930-1734786000-1734791400@academyofmakeuparts.com
SUMMARY:Holiday Open House Like No Other at Academy of Makeup & Arts
DESCRIPTION:Celebrate the Season at AMUA’s Holiday Open House Like No Other\nSchool’s out for winter\, and the Academy of Makeup & Arts invites you to kick off the season at our Holiday Open House on Saturday\, December 21\, from 1:00–2:30 PM where our talented team creates a fantastically hideous holiday Elf! \nStep behind the scenes of Hollywood magic with a hands-on demonstration by our renowned instructors\, celebrated for their work on major films. Watch as they transform a live actor and reveal the artistry behind your favorite holiday film characters. \nEnjoy light refreshments\, connect with friends\, and celebrate the holiday spirit in a creative\, unconventional way with AMUA. Don’t miss this exciting opportunity to explore the world of professional makeup artistry and special effects. \nWe can’t wait to welcome you!
URL:https://academyofmakeuparts.com/event/holiday-open-house-at-academy-of-make-up-arts/
LOCATION:Academy of Makeup & Arts\, 299 Plus Park Blvd Suite 110\, Nashville\, TN\, United States
CATEGORIES:Prospective Students
ATTACH;FMTTYPE=image/png:https://academyofmakeuparts.com/wp-content/uploads/2024/12/AMUA-Holiday-Open-House-2024-sq.png
ORGANIZER;CN="Michele Brown":MAILTO:michelebrown@theamua.com
END:VEVENT
END:VCALENDAR